BEGIN:VCALENDAR
VERSION:2.0
PRODID:-//Bloeiend Zijpe - ECPv6.15.20//NONSGML v1.0//EN
CALSCALE:GREGORIAN
METHOD:PUBLISH
X-WR-CALNAME:Bloeiend Zijpe
X-ORIGINAL-URL:https://bloeiendzijpe.nl
X-WR-CALDESC:Evenementen voor Bloeiend Zijpe
REFRESH-INTERVAL;VALUE=DURATION:PT1H
X-Robots-Tag:noindex
X-PUBLISHED-TTL:PT1H
BEGIN:VTIMEZONE
TZID:UTC
BEGIN:STANDARD
TZOFFSETFROM:+0000
TZOFFSETTO:+0000
TZNAME:UTC
DTSTART:20250101T000000
END:STANDARD
END:VTIMEZONE
BEGIN:VEVENT
DTSTART;TZID=UTC:20260426T090000
DTEND;TZID=UTC:20260426T170000
DTSTAMP:20260424T154908
CREATED:20250529T201259Z
LAST-MODIFIED:20251218T135658Z
UID:433-1777194000-1777222800@bloeiendzijpe.nl
SUMMARY:Fietsdag
DESCRIPTION:About the sessionDiscover how to make the most of your online learning experience with our Guide to Virtual Classrooms event. In this interactive session\, we’ll walk you through the essential tools\, features\, and strategies that help students thrive in a digital learning environment. From navigating the platform and participating in live discussions to managing assignments and collaborating with peers\, you’ll gain practical tips for success. This event is designed for both new and prospective students who want to feel confident\, connected and fully prepared for the virtual classroom experience. \nEvent descriptionFermentum porttitor vel rhoncus arcu leot. Venenatis tincidunt velit aculis scelerisque cursus viverra bitae id ornare integer rutrum. Eu vitae sodales fringilla velk aliquam elit sed mauris aliquam blandit. Quisque elementum turpis quis dapibus vputate. Nullam vitae ligula non nibh solicitudin auctor id sed quam. Curabitur elit est\, aliquamd erat sed placerat cursus sapien. Suspen disse potentia nunc lorem ante. \nInterdum facilisis justo a malesuada interdum elit. Fusce varius dolor velit consectetur diam ornare mollis. Duis odio lectus\, porta sit amet ursus ac vehicula vitae erat. Proin at ullamcorper urna. Vestibulum in suscipit nulla. Integer vitae ipsum ipsum. Pellent esque est lacus auctor. \nExperience a challenging curriculumSet for global students enrollmentLive study & discussion featuresTalented & fully dedicated teachersOnline School – Where the world learnsCurabitur et faucibus lorem. In orci neque\, dapibus ad convallis maximus risus. Aliquam rhoncusd turpis rhoncus sollicitudin. Nullam eget erat quam. In id purus sodales tincidunt velit ut pretium odio. Suspendisse faucibus arcu eu gravida ornare. Sed sollicitudin ullamcorper sodales. \nDonec sem nibha sagittis eu ante sed feugiat mattis leo. Suspen adise imperds hiet nulla vel faucibus sodales leo lorem semper ipsum feugiat lacus enim metus lacinia sed elementum eget tortor. \nCheck out more about this event by subscribing now: \n\n\n\n\n				\n	\n	\n\n				\n					Toevoegen aan kalender				\n				\n	\n\n			\n\n\n\n	\n		Google Calendar	\n\n\n	\n		iCalendar	\n\n\n	\n		Outlook 365	\n\n\n	\n		Outlook Live	\n\n\n	\n		.ics bestand exporteren	\n\n\n	\n		Outlook .ics bestand exporteren	\n\n\n \n \n\nShare This Event
URL:https://bloeiendzijpe.nl/event/fietsdag/
LOCATION:Voorjaar 2026 gepubliceerd
ATTACH;FMTTYPE=image/jpeg:https://bloeiendzijpe.nl/wp-content/uploads/2025/11/DSC_0042-scaled-e1762786277402.jpg
END:VEVENT
END:VCALENDAR